BEGIN:VCALENDAR
VERSION:2.0
PRODID:-//hacksw/handcal//NONSGML v1.0//EN
BEGIN:VEVENT
SUMMARY:Foulee meudonnaise 2026
UID:75615a5e-e9f8-44d4-a5ef-e975392ee8f0
DTSTART:20260411T220000Z
DTEND:20260412T220000Z
LOCATION:Localisation   
CATEGORIES:Sportif
STATUS:
URL;VALUE=URI:https://www.asmeudonathle.com/evenements/2026/04/12/foulee-meudonnaise-2026-2441488
END:VEVENT
END:VCALENDAR
