BEGIN:VCALENDAR
VERSION:2.0
PRODID:-//hacksw/handcal//NONSGML v1.0//EN
BEGIN:VEVENT
SUMMARY:Resultats de mars 2026
UID:591ac381-40ca-48cf-8208-00feb7411c23
DTSTART:20260227T230000Z
DTEND:20260331T220000Z
LOCATION:Localisation   
CATEGORIES:Sportif
STATUS:
URL;VALUE=URI:https://www.asmeudonathle.com/evenements/2026/02/28/resultats-de-mars-2026-2435804
END:VEVENT
END:VCALENDAR
